BEGIN:VCALENDAR
VERSION:2.0
PRODID:-//wp-events-plugin.com//7.2.3.1//EN
BEGIN:VEVENT
UID:381@digitalhumanism.at
DTSTART;TZID=Europe/Vienna:20260511T190000
DTEND;TZID=Europe/Vienna:20260511T190000
DTSTAMP:20260424T133454Z
URL:https://digitalhumanism.at/events/75-netzpolitischer-abend-at-macht-un
 d-gegenmacht-llms-zwischen-digitalpolitik-und-arbeitswelt/
SUMMARY:75. Netzpolitischer Abend AT: Macht und Gegenmacht – LLMs zwische
 n Digitalpolitik und Arbeitswelt
DESCRIPTION:Diskussion
ATTACH;FMTTYPE=image/jpeg:https://digitalhumanism.at/wp-content/uploads/20
 26/04/netzpat-logo-white.png
LOCATION:FLUCC\, Praterstern 5\, Wien\, 1020\, Österreich
X-APPLE-STRUCTURED-LOCATION;VALUE=URI;X-ADDRESS=Praterstern 5\, Wien\, 1020
 \, Österreich;X-APPLE-RADIUS=100;X-TITLE=FLUCC:geo:0,0
END:VEVENT
BEGIN:VTIMEZONE
TZID:Europe/Vienna
X-LIC-LOCATION:Europe/Vienna
BEGIN:DAYLIGHT
DTSTART:20260329T030000
TZOFFSETFROM:+0100
TZOFFSETTO:+0200
TZNAME:CEST
END:DAYLIGHT
END:VTIMEZONE
END:VCALENDAR