BEGIN:VCALENDAR
VERSION:2.0
PRODID:-//wp-events-plugin.com//7.2.3.1//EN
BEGIN:VEVENT
UID:296@digitalhumanism.at
DTSTART;TZID=Europe/Vienna:20260120T170000
DTEND;TZID=Europe/Vienna:20260120T180000
DTSTAMP:20260115T131432Z
URL:https://digitalhumanism.at/events/dighum-lecture-with-iyad-rahwan-the-
 science-fiction-science-method-dighum-lecture-with-iyad-rahwan/
SUMMARY:DIGHUM lecture with Iyad Rahwan: “The Science Fiction Science Met
 hod”
DESCRIPTION:DIGHUM Lecture
ATTACH;FMTTYPE=image/jpeg:https://digitalhumanism.at/wp-content/uploads/20
 26/01/rahwan-nuseibeh_hu4f69555b1b68e3b9c0ebebaa30641f6f_625052_1540x1100_
 fill_q80_h2_lanczos_smart1_3.webp
CATEGORIES:online
LOCATION:https://tuwien.zoom.us/j/96389928143?pwd=UU5YRkNuRmdoWHV4MFBwMWRCc
 UErdz09#success
END:VEVENT
BEGIN:VTIMEZONE
TZID:Europe/Vienna
X-LIC-LOCATION:Europe/Vienna
BEGIN:STANDARD
DTSTART:20251026T020000
TZOFFSETFROM:+0200
TZOFFSETTO:+0100
TZNAME:CET
END:STANDARD
END:VTIMEZONE
END:VCALENDAR