BEGIN:VCALENDAR
VERSION:2.0
PRODID:-//wp-events-plugin.com//7.2.3.1//EN
BEGIN:VEVENT
UID:380@digitalhumanism.at
DTSTART;TZID=Europe/Vienna:20260622T183000
DTEND;TZID=Europe/Vienna:20260622T210000
DTSTAMP:20260420T070608Z
URL:https://digitalhumanism.at/events/do-robots-dream-of-electric-sheep/
SUMMARY:„Do Robots Dream of Electric Sheep?“*
DESCRIPTION:Gespräch
ATTACH;FMTTYPE=image/jpeg:https://digitalhumanism.at/wp-content/uploads/20
 26/02/A6_Digitaler-Humanismus_0326_Ansicht.jpg
LOCATION:Lesesaal der Wienbibliothek im Rathaus\, Rathaus\, Eingang Lichten
 felsgasse\, Stiege 6 (Glaslift)\, 1. Stock\, Wien\, 1010\, Österreich
X-APPLE-STRUCTURED-LOCATION;VALUE=URI;X-ADDRESS=Rathaus\, Eingang Lichtenfe
 lsgasse\, Stiege 6 (Glaslift)\, 1. Stock\, Wien\, 1010\, Österreich;X-APP
 LE-RADIUS=100;X-TITLE=Lesesaal der Wienbibliothek im Rathaus:geo:0,0
END:VEVENT
BEGIN:VTIMEZONE
TZID:Europe/Vienna
X-LIC-LOCATION:Europe/Vienna
BEGIN:DAYLIGHT
DTSTART:20260329T030000
TZOFFSETFROM:+0100
TZOFFSETTO:+0200
TZNAME:CEST
END:DAYLIGHT
END:VTIMEZONE
END:VCALENDAR